BEGIN:VCALENDAR
VERSION:2.0
PRODID:-//talbothospice.org//NONSGML kigkonsult.se iCalcreator 2.30.10//
CALSCALE:GREGORIAN
METHOD:PUBLISH
UID:ad958889-6ce9-4856-993c-42ec5882fc17
X-WR-CALDESC:For parents who have experienced the death of a child of any a
 ge.
X-WR-RELCALID:2916f457648129a85bd49d4aae1f1b6f
X-WR-TIMEZONE:America/New_York
BEGIN:VTIMEZONE
TZID:America/New_York
BEGIN:STANDARD
TZNAME:EST
DTSTART:20251102T020000
TZOFFSETFROM:-0400
TZOFFSETTO:-0500
RDATE:20261101T020000
END:STANDARD
BEGIN:DAYLIGHT
TZNAME:EDT
DTSTART:20250309T020000
TZOFFSETFROM:-0500
TZOFFSETTO:-0400
RDATE:20260308T020000
RDATE:20270314T020000
END:DAYLIGHT
END:VTIMEZONE
BEGIN:VEVENT
UID:258ab8b4-05a7-400d-94fb-2efce15c027b
DTSTAMP:20260422T083423Z
DESCRIPTION:For parents who have experienced the death of a child of any ag
 e.
DTSTART;TZID=America/New_York:20260218T190000
DTEND;TZID=America/New_York:20260218T200000
LOCATION:586 Cynwood Dr\, Easton\, AL 21601 US
SUMMARY:Child Loss Support Group
END:VEVENT
END:VCALENDAR
