BEGIN:VCALENDAR
VERSION:2.0
PRODID:-//talbothospice.org//NONSGML kigkonsult.se iCalcreator 2.30.10//
CALSCALE:GREGORIAN
METHOD:PUBLISH
UID:ffb46a3e-4b11-4e3e-913c-bd6cdb55d08c
X-WR-CALDESC:A yoga class to help find strength in the grieving process. Fo
 r anyone grieving the death of a loved one. Beth Hobson will be facilitati
 ng.
X-WR-RELCALID:7d0e089b7adb56116f0b460d97d41346
X-WR-TIMEZONE:America/New_York
BEGIN:VTIMEZONE
TZID:America/New_York
BEGIN:STANDARD
TZNAME:EST
DTSTART:20251102T020000
TZOFFSETFROM:-0400
TZOFFSETTO:-0500
RDATE:20261101T020000
END:STANDARD
BEGIN:DAYLIGHT
TZNAME:EDT
DTSTART:20250309T020000
TZOFFSETFROM:-0500
TZOFFSETTO:-0400
RDATE:20260308T020000
RDATE:20270314T020000
END:DAYLIGHT
END:VTIMEZONE
BEGIN:VEVENT
UID:d7b4730b-1643-4732-ab25-3b3c1fa59bd0
DTSTAMP:20260421T084522Z
DESCRIPTION:A yoga class to help find strength in the grieving process. For
  anyone grieving the death of a loved one. Beth Hobson will be facilitatin
 g.
DTSTART;TZID=America/New_York:20260217T084500
DTEND;TZID=America/New_York:20260217T093000
LOCATION:586 Cynwood Dr.\, Easton\, AL 21601 US
SUMMARY:Healing Through YOGA: Chair Yoga
END:VEVENT
END:VCALENDAR
