BEGIN:VCALENDAR
VERSION:2.0
PRODID:-//talbothospice.org//NONSGML kigkonsult.se iCalcreator 2.30.10//
CALSCALE:GREGORIAN
METHOD:PUBLISH
UID:60a5a7d6-48b3-40c4-8667-7ba4ee2d3d03
X-WR-CALDESC:A grief support group for anyone who has experienced the death
  of loved one
X-WR-RELCALID:00c6cf4395d9757344110fbf2ee499f3
X-WR-TIMEZONE:America/New_York
BEGIN:VTIMEZONE
TZID:America/New_York
BEGIN:STANDARD
TZNAME:EST
DTSTART:20251102T020000
TZOFFSETFROM:-0400
TZOFFSETTO:-0500
RDATE:20261101T020000
END:STANDARD
BEGIN:DAYLIGHT
TZNAME:EDT
DTSTART:20260308T020000
TZOFFSETFROM:-0500
TZOFFSETTO:-0400
RDATE:20270314T020000
END:DAYLIGHT
END:VTIMEZONE
BEGIN:VEVENT
UID:dae0216a-2731-4659-aba4-ffeced1772f8
DTSTAMP:20260421T084336Z
DESCRIPTION:A grief support group for anyone who has experienced the death 
 of loved one
DTSTART;TZID=America/New_York:20260324T170000
DTEND;TZID=America/New_York:20260324T180000
LOCATION:
SUMMARY:Grief Support Group
END:VEVENT
END:VCALENDAR
