BEGIN:VCALENDAR
VERSION:2.0
PRODID:-//talbothospice.org//NONSGML kigkonsult.se iCalcreator 2.30.10//
CALSCALE:GREGORIAN
METHOD:PUBLISH
UID:204a78b5-59dc-4532-babf-b018d52e3e19
X-WR-CALDESC:A yoga class to help find strength in the grieving process. Fo
 r anyone grieving the death of a loved one. Beth Hobson will be facilitati
 ng.
X-WR-RELCALID:a1125d1f151f9ea24166098681b88ce5
X-WR-TIMEZONE:America/New_York
BEGIN:VTIMEZONE
TZID:America/New_York
BEGIN:STANDARD
TZNAME:EST
DTSTART:20251102T020000
TZOFFSETFROM:-0400
TZOFFSETTO:-0500
RDATE:20261101T020000
END:STANDARD
BEGIN:DAYLIGHT
TZNAME:EDT
DTSTART:20260308T020000
TZOFFSETFROM:-0500
TZOFFSETTO:-0400
RDATE:20270314T020000
END:DAYLIGHT
END:VTIMEZONE
BEGIN:VEVENT
UID:c189b913-f1c5-4427-bc03-b0b5ed93622d
DTSTAMP:20260422T083628Z
DESCRIPTION:A yoga class to help find strength in the grieving process. For
  anyone grieving the death of a loved one. Beth Hobson will be facilitatin
 g.
DTSTART;TZID=America/New_York:20260310T084500
DTEND;TZID=America/New_York:20260310T093000
LOCATION:586 Cynwood Dr.\, Easton\, AL 21601 US
SUMMARY:Healing Through YOGA: Chair Yoga
END:VEVENT
END:VCALENDAR
