BEGIN:VCALENDAR
VERSION:2.0
PRODID:-//talbothospice.org//NONSGML kigkonsult.se iCalcreator 2.30.10//
CALSCALE:GREGORIAN
METHOD:PUBLISH
UID:a8ea28f3-713c-47ed-a408-7969c17c841e
X-WR-CALDESC:A grief support group for anyone who has experienced the death
  of loved one
X-WR-RELCALID:48426338f17eddc265d673a0d1f55ff8
X-WR-TIMEZONE:America/New_York
BEGIN:VTIMEZONE
TZID:America/New_York
BEGIN:STANDARD
TZNAME:EST
DTSTART:20251102T020000
TZOFFSETFROM:-0400
TZOFFSETTO:-0500
RDATE:20261101T020000
END:STANDARD
BEGIN:DAYLIGHT
TZNAME:EDT
DTSTART:20250309T020000
TZOFFSETFROM:-0500
TZOFFSETTO:-0400
RDATE:20260308T020000
RDATE:20270314T020000
END:DAYLIGHT
END:VTIMEZONE
BEGIN:VEVENT
UID:ec81c178-1b94-43f5-a22c-38ef4f260f88
DTSTAMP:20260421T083437Z
DESCRIPTION:A grief support group for anyone who has experienced the death 
 of loved one
DTSTART;TZID=America/New_York:20260224T170000
DTEND;TZID=America/New_York:20260224T180000
LOCATION:
SUMMARY:Grief Support Group
END:VEVENT
END:VCALENDAR
