BEGIN:VCALENDAR
VERSION:2.0
PRODID:-//talbothospice.org//NONSGML kigkonsult.se iCalcreator 2.30.10//
CALSCALE:GREGORIAN
METHOD:PUBLISH
UID:f730e7b5-b1a9-4239-acc5-3296b5d35211
X-WR-CALDESC:This year’s Hospice Cup regatta takes place on Saturday\, Sept
 ember 13\, 2025. There are three racing circles offered for participating 
 skippers and crew - a windward leeward course\, a distance course\, and a 
 cruising fleet course. Prizes are awarded to boats that place in their res
 pective fleets as well as for skippers who deliver superior team fundraisi
 ng performance. The best overall performing skipper in the 3 most recent H
 ospice Cup events will receive an invitation to compete in the 2025 Hospic
 e Regattas National Championship. Hospice Cup is organized by the Sailing 
 Club of the Chesapeake and sanctioned by CBYRA\, with participating boats 
 eligible for high point credit.\n\nThe shore party and awards take place a
 fter the race at Horn Point Marina.
X-WR-RELCALID:e885cc70f36a98be53331d38383b24ac
X-WR-TIMEZONE:America/New_York
BEGIN:VTIMEZONE
TZID:America/New_York
BEGIN:STANDARD
TZNAME:EST
DTSTART:20241103T020000
TZOFFSETFROM:-0400
TZOFFSETTO:-0500
RDATE:20251102T020000
RDATE:20261101T020000
END:STANDARD
BEGIN:DAYLIGHT
TZNAME:EDT
DTSTART:20250309T020000
TZOFFSETFROM:-0500
TZOFFSETTO:-0400
RDATE:20260308T020000
RDATE:20270314T020000
END:DAYLIGHT
END:VTIMEZONE
BEGIN:VEVENT
UID:dd7f1da8-2f24-4979-8224-391c01c9d438
DTSTAMP:20260422T083044Z
DESCRIPTION:This year’s Hospice Cup regatta takes place on Saturday\, Septe
 mber 13\, 2025. There are three racing circles offered for participating s
 kippers and crew - a windward leeward course\, a distance course\, and a c
 ruising fleet course. Prizes are awarded to boats that place in their resp
 ective fleets as well as for skippers who deliver superior team fundraisin
 g performance. The best overall performing skipper in the 3 most recent Ho
 spice Cup events will receive an invitation to compete in the 2025 Hospice
  Regattas National Championship. Hospice Cup is organized by the Sailing C
 lub of the Chesapeake and sanctioned by CBYRA\, with participating boats e
 ligible for high point credit.\n\nThe shore party and awards take place af
 ter the race at Horn Point Marina.
DTSTART;TZID=America/New_York:20250913T060000
DTEND;TZID=America/New_York:20250913T060001
LOCATION:Annapolis\, MD
SUMMARY:Hospice Cup 2025
END:VEVENT
END:VCALENDAR
