BEGIN:VCALENDAR
VERSION:2.0
PRODID:-//talbothospice.org//NONSGML kigkonsult.se iCalcreator 2.30.10//
CALSCALE:GREGORIAN
METHOD:PUBLISH
UID:478811d8-5a5e-4a57-a3ee-8ccc3c763c95
X-WR-CALDESC:The Talbot Hospice Memorial Walk returns this Spring and will 
 be held in-person on Saturday\, May 14th at Easton’s Rails to Trails and J
 ohn F. Ford park. A virtual walk is also available to supporters who live 
 out-of-town\, or would prefer to participate on their own.  \n\nThis year 
 the Memorial Walk moves to a new location and time and will be hosted at t
 he Town of Easton’s Rails to Trails and John F. Ford Memorial Park from 10
 am – 2pm on Saturday\, May 14th.  The traditional memorial ceremony and do
 ve release will start the event\, followed by a 0.25 mile walk around the 
 park or 3.1 miles walk on Rails to Trails. After the race\, participants a
 re invited to stay for family fun including games\, bake sale\, vendors an
 d more. \n\nRegistration is $30/adults and $10/young adults 12 and older. 
 Children 11 and under are free. All participants will receive a hat and t-
 shirt.\n\nDogs are welcome to register for $5 each and will receive a Memo
 rial Walk bandana.
X-WR-RELCALID:0e754b41dda11002046b1f0860dc9258
X-WR-TIMEZONE:America/New_York
BEGIN:VTIMEZONE
TZID:America/New_York
BEGIN:STANDARD
TZNAME:EST
DTSTART:20211107T020000
TZOFFSETFROM:-0400
TZOFFSETTO:-0500
RDATE:20221106T020000
RDATE:20231105T020000
END:STANDARD
BEGIN:DAYLIGHT
TZNAME:EDT
DTSTART:20220313T020000
TZOFFSETFROM:-0500
TZOFFSETTO:-0400
RDATE:20230312T020000
END:DAYLIGHT
END:VTIMEZONE
BEGIN:VEVENT
UID:25b87b8c-4861-46b7-a9bd-59118629bb2a
DTSTAMP:20260422T101013Z
DESCRIPTION:The Talbot Hospice Memorial Walk returns this Spring and will b
 e held in-person on Saturday\, May 14th at Easton’s Rails to Trails and Jo
 hn F. Ford park. A virtual walk is also available to supporters who live o
 ut-of-town\, or would prefer to participate on their own.  \n\nThis year t
 he Memorial Walk moves to a new location and time and will be hosted at th
 e Town of Easton’s Rails to Trails and John F. Ford Memorial Park from 10a
 m – 2pm on Saturday\, May 14th.  The traditional memorial ceremony and dov
 e release will start the event\, followed by a 0.25 mile walk around the p
 ark or 3.1 miles walk on Rails to Trails. After the race\, participants ar
 e invited to stay for family fun including games\, bake sale\, vendors and
  more. \n\nRegistration is $30/adults and $10/young adults 12 and older. C
 hildren 11 and under are free. All participants will receive a hat and t-s
 hirt.\n\nDogs are welcome to register for $5 each and will receive a Memor
 ial Walk bandana.
DTSTART;TZID=America/New_York:20220514T100000
DTEND;TZID=America/New_York:20220514T140000
LOCATION:Easton Rails to Trail - John F. Ford Memorial Park
SUMMARY:2022 Memorial Walk
END:VEVENT
END:VCALENDAR
